BEGIN:VCALENDAR
VERSION:2.0
PRODID:-//https://www.comitatopodisticobolognese.it///NONSGML kigkonsult.se iCalcreator 2.10.15//
METHOD:PUBLISH
BEGIN:VEVENT
UID:20260421T124606CEST-1448XXWiH6@https://www.comitatopodisticobolognese.i
 t/
DTSTAMP:20260421T104606Z
DESCRIPTION:Ludico motoria Notturna di Km 7. Partenza ore 02:00 dal Parco G
 inepreto\, via della Resistenza 201 https://comitatopodisticobolognese.it/
 component/rseventspro/Eventi/290-ghost-run-la-corsa-che-non-c-e.html
DTSTART;VALUE=DATE:20211031
LOCATION:Pianoro (Bo) ()
SUMMARY:Ghost Run - La corsa che non c'è
URL:https://comitatopodisticobolognese.it/component/rseventspro/Eventi/290-
 ghost-run-la-corsa-che-non-c-e.html
END:VEVENT
END:VCALENDAR
