BEGIN:VCALENDAR
VERSION:2.0
PRODID:-//https://www.comitatopodisticobolognese.it///NONSGML kigkonsult.se iCalcreator 2.10.15//
METHOD:PUBLISH
BEGIN:VEVENT
UID:20260420T015231CEST-6288JPwHID@https://www.comitatopodisticobolognese.i
 t/
DTSTAMP:20260419T235231Z
DESCRIPTION:Competitiva di Km 10 GARA NAZIONALE FIDAL SU STRADA CERTIFICATA
 \nPartenza ore 08.00 c/o Casa Bondi\, via Dello Sport https://comitatopodi
 sticobolognese.it/component/rseventspro/Eventi/307-46-camminata-di-castena
 so.html
DTSTART;VALUE=DATE:20211024
LOCATION:Castenaso (Bo) ()
SUMMARY:46° Camminata di Castenaso
URL:https://comitatopodisticobolognese.it/component/rseventspro/Eventi/307-
 46-camminata-di-castenaso.html
END:VEVENT
END:VCALENDAR
