BEGIN:VCALENDAR
VERSION:2.0
PRODID:-//https://www.comitatopodisticobolognese.it///NONSGML kigkonsult.se iCalcreator 2.10.15//
METHOD:PUBLISH
BEGIN:VEVENT
UID:20260423T104335CEST-6539BM91vt@https://www.comitatopodisticobolognese.i
 t/
DTSTAMP:20260423T084335Z
DESCRIPTION:SCARICA VOLANTINO&nbsp\;\nCamminata ludico motoria&nbsp\;non&nb
 sp\;competitiva.\nPercorso asfalto misto sterrato&nbsp\;\nMAXI - Km.13\nAL
 TERNATIVA - Km.8\nMINI - Km. 3\nG.P. LONGARA ha\, negli ultimi anni\, dona
 toG.P. LONGARA ha\, negli ultimi anni\, donatobuona parte degli utili dell
 a CamminataCampagnola all’Associazione PASSOPASSO. Questi fondi sono stati
  utilizzatiper l’allestimento e le attività della StanzaBasale.\n\n&nbsp\;
 \n&nbsp\; https://comitatopodisticobolognese.it/component/rseventspro/Even
 ti/220-camminata-campagnola.html
DTSTART:20191006T083000Z
DTEND:20191006T120000Z
LOCATION:Longara  (Via Caduti Libertà\, 9\, 40012 Longara BO\, Italia)
SUMMARY:CAMMINATA CAMPAGNOLA
URL:https://comitatopodisticobolognese.it/component/rseventspro/Eventi/220-
 camminata-campagnola.html
END:VEVENT
END:VCALENDAR
