BEGIN:VCALENDAR
VERSION:2.0
PRODID:-//https://www.comitatopodisticobolognese.it///NONSGML kigkonsult.se iCalcreator 2.10.15//
METHOD:PUBLISH
BEGIN:VEVENT
UID:20260423T120131CEST-0884lIv6Hw@https://www.comitatopodisticobolognese.i
 t/
DTSTAMP:20260423T100131Z
DESCRIPTION:Camminata ludico motoria&nbsp\;non&nbsp\;competitiva.\nPercorso
  collinare&nbsp\;\nMAXI - Km.12\,5\nALTERNATIVA - Km.7\nMINI - Km. 3\n\n&n
 bsp\;\n&nbsp\; https://comitatopodisticobolognese.it/component/rseventspro
 /Eventi/216-8-camminata-dall-eremo-ai-gessi.html
DTSTART:20190929T090000Z
DTEND:20190929T120000Z
LOCATION:Ceretolo (Centro Sportivo) (Via della Libertà\, 40033 Casalecchio 
 di Reno BO\, Italia)
SUMMARY:8^ CAMMINATA DALL'EREMO AI GESSI
URL:https://comitatopodisticobolognese.it/component/rseventspro/Eventi/216-
 8-camminata-dall-eremo-ai-gessi.html
END:VEVENT
END:VCALENDAR
