BEGIN:VCALENDAR
VERSION:2.0
PRODID:-//https://www.comitatopodisticobolognese.it///NONSGML kigkonsult.se iCalcreator 2.10.15//
METHOD:PUBLISH
BEGIN:VEVENT
UID:20260423T120228CEST-6281Ps8AII@https://www.comitatopodisticobolognese.i
 t/
DTSTAMP:20260423T100228Z
DESCRIPTION:Camminata ludico motoria&nbsp\;non&nbsp\;competitiva in concomi
 tanzacon la 8^ edizione della Maratonina del pesco e delle 30 Km.\nPercors
 o asfalto misto sterrato:\nMAXI - Km. 16\nALTERNATIVA - Km.11 - Km.9\nMINI
  - Km. 3\n\n&nbsp\;\n&nbsp\; https://comitatopodisticobolognese.it/compone
 nt/rseventspro/Eventi/219-xxxvi-du-pas-par-san-zvan.html
DTSTART:20190915T090000Z
DTEND:20190915T120000Z
LOCATION:San Giovanni in Persiceto (BO)  (Via Muzzinello\, 40017 San Giovan
 ni in Persiceto BO\, Italia)
SUMMARY:XXXVI DU PAS PAR SAN ZVAN
URL:https://comitatopodisticobolognese.it/component/rseventspro/Eventi/219-
 xxxvi-du-pas-par-san-zvan.html
END:VEVENT
END:VCALENDAR
