BEGIN:VCALENDAR
VERSION:2.0
PRODID:-//https://www.comitatopodisticobolognese.it///NONSGML kigkonsult.se iCalcreator 2.10.15//
METHOD:PUBLISH
BEGIN:VEVENT
UID:20260423T120539CEST-1509ZHVAdp@https://www.comitatopodisticobolognese.i
 t/
DTSTAMP:20260423T100539Z
DESCRIPTION:Staffetta in percorso cittadino della distanza di metri 1000\, 
 inserita nell'ambito della Festa dello Sport di Pieve di Cento.\n\n https:
 //comitatopodisticobolognese.it/component/rseventspro/Eventi/214-27-staffe
 tta-settembrina.html
DTSTART:20190905T183000Z
DTEND:20190905T220000Z
LOCATION:Pieve di Cento (Piazza Andrea Costa\, 40066 Pieve di Cento BO\, It
 alia)
SUMMARY:27^ STAFFETTA SETTEMBRINA
URL:https://comitatopodisticobolognese.it/component/rseventspro/Eventi/214-
 27-staffetta-settembrina.html
END:VEVENT
BEGIN:VEVENT
UID:20260423T120539CEST-1513CFBvzf@https://www.comitatopodisticobolognese.i
 t/
DTSTAMP:20260423T100539Z
DESCRIPTION:Camminata ludico motoria&nbsp\;non&nbsp\;competitiva.\nPercorso
 &nbsp\;dalla località di Mercatale a Poggio Scanno\, andata/ritorno\nALTER
 NATIVA - Km.8\,5\nMINI - Km. 2\,5\n\n&nbsp\;\n&nbsp\; https://comitatopodi
 sticobolognese.it/component/rseventspro/Eventi/215-4-camminata-del-bersagl
 iere.html
DTSTART:20190907T153000Z
DTEND:20190907T180000Z
LOCATION:Mercatale (Via della Pace\, 40064 Mercatale BO\, Italia)
SUMMARY:4^ CAMMINATA DEL BERSAGLIERE
URL:https://comitatopodisticobolognese.it/component/rseventspro/Eventi/215-
 4-camminata-del-bersagliere.html
END:VEVENT
BEGIN:VEVENT
UID:20260423T120539CEST-1516GV87vJ@https://www.comitatopodisticobolognese.i
 t/
DTSTAMP:20260423T100539Z
DESCRIPTION:Camminata ludico motoria&nbsp\;non&nbsp\;competitiva.\nPercorso
  di Km 10 e 5 articolato all'interno della Caserma e lungo le strade e i p
 archi di Castelmaggiore.\n https://comitatopodisticobolognese.it/component
 /rseventspro/Eventi/217-corri-e-06-00-con-l-esercito.html
DTSTART:20190906T060000Z
DTEND:20190906T080000Z
LOCATION:Castelmaggiore (Via Rimembranza\, 1\, 40013 Castel Maggiore BO)
SUMMARY:CORRI E 06:00 CON L'ESERCITO
URL:https://comitatopodisticobolognese.it/component/rseventspro/Eventi/217-
 corri-e-06-00-con-l-esercito.html
END:VEVENT
END:VCALENDAR
