BEGIN:VCALENDAR
VERSION:2.0
PRODID:-//https://www.comitatopodisticobolognese.it///NONSGML kigkonsult.se iCalcreator 2.10.15//
METHOD:PUBLISH
BEGIN:VEVENT
UID:20260422T042431CEST-2379DPJiWG@https://www.comitatopodisticobolognese.i
 t/
DTSTAMP:20260422T022431Z
DESCRIPTION:Percorso competitivo di km. 16\,200 (dislivello +500 mt.) per g
 li adulti (anni 18 in poi)\;\nLudico motoria di km. 3 e 7 per gli adulti\n
 Gara Competitiva a categorie per i giovani Esordienti - Ragazzi - Cadetti 
 - Allievi in circuito cittadino\nLudico motoria dedicata ai bambini con et
 à inferiore ai 6 anni (Scuole materne Vergato)\n\n&nbsp\;\n https://comita
 topodisticobolognese.it/component/rseventspro/Eventi/191-46-camminata-mont
 anara-1-memorial-franco-pezzulli.html
DTSTART:20190505T090000Z
DTEND:20190505T120000Z
LOCATION:VERGATO (Piazza Capitani della Montagna\, 40038 Vergato BO\, Itali
 a)
SUMMARY:46^ CAMMINATA MONTANARA - 1^ Memorial Franco Pezzulli
URL:https://comitatopodisticobolognese.it/component/rseventspro/Eventi/191-
 46-camminata-montanara-1-memorial-franco-pezzulli.html
END:VEVENT
END:VCALENDAR
