BEGIN:VCALENDAR
VERSION:2.0
PRODID:-//https://www.comitatopodisticobolognese.it///NONSGML kigkonsult.se iCalcreator 2.10.15//
METHOD:PUBLISH
BEGIN:VEVENT
UID:20260419T175636CEST-5161I0NRht@https://www.comitatopodisticobolognese.i
 t/
DTSTAMP:20260419T155636Z
DESCRIPTION:Camminata Ludico motoria. Partenza ore 9.00 - Chiesa di Mascari
 no (Castello d'Argile) PERCORSO: Asfalto - Pianeggiante https://comitatopo
 disticobolognese.it/component/rseventspro/Eventi/316-camminata-dei-presepi
 .html
DTSTART;VALUE=DATE:20220306
LOCATION:Mascarino-Venezzano ()
SUMMARY:Camminata dei Presepi 
URL:https://comitatopodisticobolognese.it/component/rseventspro/Eventi/316-
 camminata-dei-presepi.html
END:VEVENT
END:VCALENDAR
