BEGIN:VCALENDAR
VERSION:2.0
PRODID:-//https://www.comitatopodisticobolognese.it///NONSGML kigkonsult.se iCalcreator 2.10.15//
METHOD:PUBLISH
BEGIN:VEVENT
UID:20260421T140537CEST-2893X5xWM9@https://www.comitatopodisticobolognese.i
 t/
DTSTAMP:20260421T120537Z
DESCRIPTION:Camminata ludico motoria in abbinamento alla gara competitiva d
 a 10 km in circuito.\nSCARICA VOLANTINO\nDISTANZE: Km. 10 - 8 - 2\nPERCORS
 O: Pianeggiante - Asfalto\nSERVIZI: Spogliatoi all'interno del palasport\n
 \n&nbsp\;\n&nbsp\;\n&nbsp\;\n&nbsp\;\n&nbsp\;\n&nbsp\; https://comitatopod
 isticobolognese.it/component/rseventspro/Eventi/245-44-camminata-di-viadag
 ola.html
DTSTART:20200209T090000Z
DTEND:20200209T143100Z
LOCATION:Granarolo dell'Emilia (BO) (Via Roma 30/2 - Granarolo dell'Emilia 
 (BO))
SUMMARY:44^ Camminata di Viadagola
URL:https://comitatopodisticobolognese.it/component/rseventspro/Eventi/245-
 44-camminata-di-viadagola.html
END:VEVENT
END:VCALENDAR
